BEGIN:VCALENDAR
VERSION:2.0
PRODID:-//Bodyshop Magazine - ECPv6.15.18//NONSGML v1.0//EN
CALSCALE:GREGORIAN
METHOD:PUBLISH
X-WR-CALNAME:Bodyshop Magazine
X-ORIGINAL-URL:https://www.bodyshopmag.com
X-WR-CALDESC:Events for Bodyshop Magazine
REFRESH-INTERVAL;VALUE=DURATION:PT1H
X-Robots-Tag:noindex
X-PUBLISHED-TTL:PT1H
BEGIN:VTIMEZONE
TZID:Europe/London
BEGIN:DAYLIGHT
TZOFFSETFROM:+0000
TZOFFSETTO:+0100
TZNAME:BST
DTSTART:20220327T010000
END:DAYLIGHT
BEGIN:STANDARD
TZOFFSETFROM:+0100
TZOFFSETTO:+0000
TZNAME:GMT
DTSTART:20221030T010000
END:STANDARD
BEGIN:DAYLIGHT
TZOFFSETFROM:+0000
TZOFFSETTO:+0100
TZNAME:BST
DTSTART:20230326T010000
END:DAYLIGHT
BEGIN:STANDARD
TZOFFSETFROM:+0100
TZOFFSETTO:+0000
TZNAME:GMT
DTSTART:20231029T010000
END:STANDARD
BEGIN:DAYLIGHT
TZOFFSETFROM:+0000
TZOFFSETTO:+0100
TZNAME:BST
DTSTART:20240331T010000
END:DAYLIGHT
BEGIN:STANDARD
TZOFFSETFROM:+0100
TZOFFSETTO:+0000
TZNAME:GMT
DTSTART:20241027T010000
END:STANDARD
END:VTIMEZONE
BEGIN:VEVENT
DTSTART;TZID=Europe/London:20230821T190000
DTEND;TZID=Europe/London:20230821T193000
DTSTAMP:20260422T014318
CREATED:20230817T082851Z
LAST-MODIFIED:20230817T082851Z
UID:43985-1692644400-1692646200@www.bodyshopmag.com
SUMMARY:AI and U (ARC Support Services webinar)
DESCRIPTION:While learning how to use AI to the benefit its own business\, the ARC Support Services team have seen how little of the current resources available to repairers actually get used\, or are used properly due to a lack of understanding. This free-to-attend webinar aims to highlight some of the advantages available to bodyshops\, if only we took the time to understand them.
URL:https://www.bodyshopmag.com/events-diary/ai-and-u-arc-support-services-webinar/
LOCATION:Webinar
CATEGORIES:General Events
ORGANIZER;CN="ARC Support Services":MAILTO:james@arcsupportservices.co.uk
END:VEVENT
END:VCALENDAR