BEGIN:VCALENDAR
VERSION:2.0
PRODID:-//Bodyshop Magazine - ECPv6.15.18//NONSGML v1.0//EN
CALSCALE:GREGORIAN
METHOD:PUBLISH
X-ORIGINAL-URL:https://www.bodyshopmag.com
X-WR-CALDESC:Events for Bodyshop Magazine
REFRESH-INTERVAL;VALUE=DURATION:PT1H
X-Robots-Tag:noindex
X-PUBLISHED-TTL:PT1H
BEGIN:VTIMEZONE
TZID:Europe/London
BEGIN:DAYLIGHT
TZOFFSETFROM:+0000
TZOFFSETTO:+0100
TZNAME:BST
DTSTART:20220327T010000
END:DAYLIGHT
BEGIN:STANDARD
TZOFFSETFROM:+0100
TZOFFSETTO:+0000
TZNAME:GMT
DTSTART:20221030T010000
END:STANDARD
BEGIN:DAYLIGHT
TZOFFSETFROM:+0000
TZOFFSETTO:+0100
TZNAME:BST
DTSTART:20230326T010000
END:DAYLIGHT
BEGIN:STANDARD
TZOFFSETFROM:+0100
TZOFFSETTO:+0000
TZNAME:GMT
DTSTART:20231029T010000
END:STANDARD
BEGIN:DAYLIGHT
TZOFFSETFROM:+0000
TZOFFSETTO:+0100
TZNAME:BST
DTSTART:20240331T010000
END:DAYLIGHT
BEGIN:STANDARD
TZOFFSETFROM:+0100
TZOFFSETTO:+0000
TZNAME:GMT
DTSTART:20241027T010000
END:STANDARD
END:VTIMEZONE
BEGIN:VEVENT
DTSTART;TZID=Europe/London:20230817T090000
DTEND;TZID=Europe/London:20230820T170000
DTSTAMP:20260422T014503
CREATED:20221021T125247Z
LAST-MODIFIED:20221021T125247Z
UID:40742-1692262800-1692550800@www.bodyshopmag.com
SUMMARY:The British Motor Show 2023
DESCRIPTION:The British Motor Show returns in 2023 with more cars\, a bigger and more action-packed fun family weekend\, and even more entertainment. Based at Farnborough International Expo Centre in Hampshire\, the show will display the latest and greatest new cars\, with VMs and dealers showcasing their latest models.
URL:https://www.bodyshopmag.com/events-diary/the-british-motor-show-2023/
LOCATION:Farnborough International Exhibition and Conference Centre\, Etps Road\, Farnborough\, GU14 6FD\, United Kingdom
CATEGORIES:General Events
ORGANIZER;CN="Automotion Events":MAILTO:enquiries@thebritishmotorshow.live
END:VEVENT
END:VCALENDAR