BEGIN:VCALENDAR
VERSION:2.0
PRODID:-//Bodyshop Magazine - ECPv6.15.18//NONSGML v1.0//EN
CALSCALE:GREGORIAN
METHOD:PUBLISH
X-ORIGINAL-URL:https://www.bodyshopmag.com
X-WR-CALDESC:Events for Bodyshop Magazine
REFRESH-INTERVAL;VALUE=DURATION:PT1H
X-Robots-Tag:noindex
X-PUBLISHED-TTL:PT1H
BEGIN:VTIMEZONE
TZID:Europe/London
BEGIN:DAYLIGHT
TZOFFSETFROM:+0000
TZOFFSETTO:+0100
TZNAME:BST
DTSTART:20220327T010000
END:DAYLIGHT
BEGIN:STANDARD
TZOFFSETFROM:+0100
TZOFFSETTO:+0000
TZNAME:GMT
DTSTART:20221030T010000
END:STANDARD
BEGIN:DAYLIGHT
TZOFFSETFROM:+0000
TZOFFSETTO:+0100
TZNAME:BST
DTSTART:20230326T010000
END:DAYLIGHT
BEGIN:STANDARD
TZOFFSETFROM:+0100
TZOFFSETTO:+0000
TZNAME:GMT
DTSTART:20231029T010000
END:STANDARD
BEGIN:DAYLIGHT
TZOFFSETFROM:+0000
TZOFFSETTO:+0100
TZNAME:BST
DTSTART:20240331T010000
END:DAYLIGHT
BEGIN:STANDARD
TZOFFSETFROM:+0100
TZOFFSETTO:+0000
TZNAME:GMT
DTSTART:20241027T010000
END:STANDARD
END:VTIMEZONE
BEGIN:VEVENT
DTSTART;TZID=Europe/London:20230712T090000
DTEND;TZID=Europe/London:20230714T170000
DTSTAMP:20260422T031611
CREATED:20221109T103851Z
LAST-MODIFIED:20221109T103851Z
UID:41170-1689152400-1689354000@www.bodyshopmag.com
SUMMARY:INA PAACE Automechanika Mexico 2023
DESCRIPTION:INA PAACE Automechanika Mexico is Latin America’s leading international tradeshow for the automotive aftermarket\, OE manufacturing and service industry\, and is billed as “the most exciting and engaging platform for automotive communities across Mexico and beyond”.
URL:https://www.bodyshopmag.com/events-diary/ina-paace-automechanika-mexico-2023/
LOCATION:Centro Citibanamex (Mexico)\, Conscipto 311\, Mexico City\, Lomas de Sotelo\, 11200\, Mexico
CATEGORIES:General Events
END:VEVENT
BEGIN:VEVENT
DTSTART;TZID=Europe/London:20230713T090000
DTEND;TZID=Europe/London:20230716T170000
DTSTAMP:20260422T031611
CREATED:20230615T094503Z
LAST-MODIFIED:20230615T094503Z
UID:43546-1689238800-1689526800@www.bodyshopmag.com
SUMMARY:Goodwood Festival of Speed
DESCRIPTION:Held in the parkland surrounding Goodwood House\, the Festival of Speed is motorsport’s ultimate summer garden party\, a celebration of the world’s most glamorous sport. Nowhere else will you get so close to the cars and bikes as they blast up the Hillclimb track; nowhere else will you enjoy such unrestricted access to the machines and the drivers who made them famous.
URL:https://www.bodyshopmag.com/events-diary/goodwood-festival-of-speed-2/
LOCATION:Goodwood House\, Goodwood House\, Chichester\, West Sussex\, PO18 0PX\, United Kingdom
CATEGORIES:General Events
END:VEVENT
END:VCALENDAR