BEGIN:VCALENDAR
VERSION:2.0
PRODID:-//Bodyshop Magazine - ECPv6.15.18//NONSGML v1.0//EN
CALSCALE:GREGORIAN
METHOD:PUBLISH
X-ORIGINAL-URL:https://www.bodyshopmag.com
X-WR-CALDESC:Events for Bodyshop Magazine
REFRESH-INTERVAL;VALUE=DURATION:PT1H
X-Robots-Tag:noindex
X-PUBLISHED-TTL:PT1H
BEGIN:VTIMEZONE
TZID:Europe/London
BEGIN:DAYLIGHT
TZOFFSETFROM:+0000
TZOFFSETTO:+0100
TZNAME:BST
DTSTART:20220327T010000
END:DAYLIGHT
BEGIN:STANDARD
TZOFFSETFROM:+0100
TZOFFSETTO:+0000
TZNAME:GMT
DTSTART:20221030T010000
END:STANDARD
BEGIN:DAYLIGHT
TZOFFSETFROM:+0000
TZOFFSETTO:+0100
TZNAME:BST
DTSTART:20230326T010000
END:DAYLIGHT
BEGIN:STANDARD
TZOFFSETFROM:+0100
TZOFFSETTO:+0000
TZNAME:GMT
DTSTART:20231029T010000
END:STANDARD
BEGIN:DAYLIGHT
TZOFFSETFROM:+0000
TZOFFSETTO:+0100
TZNAME:BST
DTSTART:20240331T010000
END:DAYLIGHT
BEGIN:STANDARD
TZOFFSETFROM:+0100
TZOFFSETTO:+0000
TZNAME:GMT
DTSTART:20241027T010000
END:STANDARD
END:VTIMEZONE
BEGIN:VEVENT
DTSTART;TZID=Europe/London:20230701T090000
DTEND;TZID=Europe/London:20230701T170000
DTSTAMP:20260422T063444
CREATED:20230609T133505Z
LAST-MODIFIED:20230609T134522Z
UID:43474-1688202000-1688230800@www.bodyshopmag.com
SUMMARY:Rallyday 2023
DESCRIPTION:Rallyday 2023 is shaping up to be an unmissable event\, not just for any self-respecting rallying fanatic\, but also anyone who has an interest in speed. Event organisers have unveiled some of the famous faces you can expect to see around this year’s show – including former World Rally Champion Co-driver Nicky Grist and British Rally Champion Dai Llewellin together with his son\, current rally star Tom. To add a further spectacular dimension to Rallyday\, Guinness World Record stunt driver Terry Grant is also confirmed as a 2023 participant.
URL:https://www.bodyshopmag.com/events-diary/rallyday-2023/
LOCATION:Castle Combe Circuit\, Chippenham\, SN14 7EY\, United Kingdom
CATEGORIES:General Events
ORGANIZER;CN="Castle Combe Circuit":MAILTO:info@castlecombecircuit.co.uk
END:VEVENT
END:VCALENDAR