BEGIN:VCALENDAR
VERSION:2.0
PRODID:-//Bodyshop Magazine - ECPv6.15.18//NONSGML v1.0//EN
CALSCALE:GREGORIAN
METHOD:PUBLISH
X-ORIGINAL-URL:https://www.bodyshopmag.com
X-WR-CALDESC:Events for Bodyshop Magazine
REFRESH-INTERVAL;VALUE=DURATION:PT1H
X-Robots-Tag:noindex
X-PUBLISHED-TTL:PT1H
BEGIN:VTIMEZONE
TZID:Europe/London
BEGIN:DAYLIGHT
TZOFFSETFROM:+0000
TZOFFSETTO:+0100
TZNAME:BST
DTSTART:20220327T010000
END:DAYLIGHT
BEGIN:STANDARD
TZOFFSETFROM:+0100
TZOFFSETTO:+0000
TZNAME:GMT
DTSTART:20221030T010000
END:STANDARD
BEGIN:DAYLIGHT
TZOFFSETFROM:+0000
TZOFFSETTO:+0100
TZNAME:BST
DTSTART:20230326T010000
END:DAYLIGHT
BEGIN:STANDARD
TZOFFSETFROM:+0100
TZOFFSETTO:+0000
TZNAME:GMT
DTSTART:20231029T010000
END:STANDARD
BEGIN:DAYLIGHT
TZOFFSETFROM:+0000
TZOFFSETTO:+0100
TZNAME:BST
DTSTART:20240331T010000
END:DAYLIGHT
BEGIN:STANDARD
TZOFFSETFROM:+0100
TZOFFSETTO:+0000
TZNAME:GMT
DTSTART:20241027T010000
END:STANDARD
END:VTIMEZONE
BEGIN:VEVENT
DTSTART;TZID=Europe/London:20230621T090000
DTEND;TZID=Europe/London:20230623T170000
DTSTAMP:20260422T063309
CREATED:20230104T115910Z
LAST-MODIFIED:20230104T115910Z
UID:41735-1687338000-1687539600@www.bodyshopmag.com
SUMMARY:International Automotive Recycling Congress IARC 2023 (Switzerland)
DESCRIPTION:The International Automotive Recycling Congress (IARC) is the international platform for discussing the latest developments and challenges in circular economy and automotive recycling. We bring together up to 300 decision-makers from the automotive and recycling sector\, especially car manufacturers\, metal suppliers\, plastic scrap traders\, recyclers\, shredder operators\, policy-makers and many more.
URL:https://www.bodyshopmag.com/events-diary/international-automotive-recycling-congress-iarc-2023-switzerland/
LOCATION:Intercontinental Geneva\, 7-9 Chemin du Petit-Saconnex\, Genève\, 1211\, Switzerland
CATEGORIES:General Events
ORGANIZER;CN="ICM AG":MAILTO:info@icm.ch
END:VEVENT
BEGIN:VEVENT
DTSTART;TZID=Europe/London:20230623T090000
DTEND;TZID=Europe/London:20230625T170000
DTSTAMP:20260422T063309
CREATED:20221109T103053Z
LAST-MODIFIED:20221109T103053Z
UID:41169-1687510800-1687712400@www.bodyshopmag.com
SUMMARY:Automechanika Ho Chi Minh City 2023 (Vietnam)
DESCRIPTION:Automechanika Ho Chi Minh City is the nation’s only focused and dedicated exhibition for the automotive aftermarket and is part of the global Automechanika brand.
URL:https://www.bodyshopmag.com/events-diary/automechanika-ho-chi-minh-city-2023-vietnam/
CATEGORIES:General Events
END:VEVENT
END:VCALENDAR