BEGIN:VCALENDAR
VERSION:2.0
PRODID:-//Bodyshop Magazine - ECPv6.15.18//NONSGML v1.0//EN
CALSCALE:GREGORIAN
METHOD:PUBLISH
X-ORIGINAL-URL:https://www.bodyshopmag.com
X-WR-CALDESC:Events for Bodyshop Magazine
REFRESH-INTERVAL;VALUE=DURATION:PT1H
X-Robots-Tag:noindex
X-PUBLISHED-TTL:PT1H
BEGIN:VTIMEZONE
TZID:Europe/London
BEGIN:DAYLIGHT
TZOFFSETFROM:+0000
TZOFFSETTO:+0100
TZNAME:BST
DTSTART:20220327T010000
END:DAYLIGHT
BEGIN:STANDARD
TZOFFSETFROM:+0100
TZOFFSETTO:+0000
TZNAME:GMT
DTSTART:20221030T010000
END:STANDARD
BEGIN:DAYLIGHT
TZOFFSETFROM:+0000
TZOFFSETTO:+0100
TZNAME:BST
DTSTART:20230326T010000
END:DAYLIGHT
BEGIN:STANDARD
TZOFFSETFROM:+0100
TZOFFSETTO:+0000
TZNAME:GMT
DTSTART:20231029T010000
END:STANDARD
BEGIN:DAYLIGHT
TZOFFSETFROM:+0000
TZOFFSETTO:+0100
TZNAME:BST
DTSTART:20240331T010000
END:DAYLIGHT
BEGIN:STANDARD
TZOFFSETFROM:+0100
TZOFFSETTO:+0000
TZNAME:GMT
DTSTART:20241027T010000
END:STANDARD
END:VTIMEZONE
BEGIN:VEVENT
DTSTART;TZID=Europe/London:20230621T090000
DTEND;TZID=Europe/London:20230622T170000
DTSTAMP:20260422T063259
CREATED:20221124T105703Z
LAST-MODIFIED:20221124T110307Z
UID:41324-1687338000-1687453200@www.bodyshopmag.com
SUMMARY:MOVE 2023
DESCRIPTION:The MOVE 2023 conference provides access to more than a thousand speakers from across the mobility spectrum\, covering subjects such as EVs\, AVs\, the automotive supply chain\, battery and hydrogen tech\, MaaS\, and automotive design. The MOVE 2023 exhibition aims to provide opportunities to form new partnerships\, see new technologies and assess the direction of where the mobility industry is going.
URL:https://www.bodyshopmag.com/events-diary/move-2023/
LOCATION:ExCel London\, Royal Victoria Dock\, 1 Western Gateway\, London\, E16 1XL\, United Kingdom
CATEGORIES:General Events
ORGANIZER;CN="Terrapinn Holdings":MAILTO:enquiry.uk@terrapinn.com
END:VEVENT
BEGIN:VEVENT
DTSTART;TZID=Europe/London:20230621T090000
DTEND;TZID=Europe/London:20230623T170000
DTSTAMP:20260422T063259
CREATED:20230104T115910Z
LAST-MODIFIED:20230104T115910Z
UID:41735-1687338000-1687539600@www.bodyshopmag.com
SUMMARY:International Automotive Recycling Congress IARC 2023 (Switzerland)
DESCRIPTION:The International Automotive Recycling Congress (IARC) is the international platform for discussing the latest developments and challenges in circular economy and automotive recycling. We bring together up to 300 decision-makers from the automotive and recycling sector\, especially car manufacturers\, metal suppliers\, plastic scrap traders\, recyclers\, shredder operators\, policy-makers and many more.
URL:https://www.bodyshopmag.com/events-diary/international-automotive-recycling-congress-iarc-2023-switzerland/
LOCATION:Intercontinental Geneva\, 7-9 Chemin du Petit-Saconnex\, Genève\, 1211\, Switzerland
CATEGORIES:General Events
ORGANIZER;CN="ICM AG":MAILTO:info@icm.ch
END:VEVENT
BEGIN:VEVENT
DTSTART;TZID=Europe/London:20230622T090000
DTEND;TZID=Europe/London:20230622T160000
DTSTAMP:20260422T063259
CREATED:20230505T095428Z
LAST-MODIFIED:20230505T095428Z
UID:43180-1687424400-1687449600@www.bodyshopmag.com
SUMMARY:BODYSHOP AWARDS 2023 PAINT TECHNICIAN OF THE YEAR PRACTICAL ASSESSMENT
DESCRIPTION:The practical assessments for the 2023 finalists in the Powered by Vizion – Bodyshop Remit Paint Technician of the Year category of the Bodyshop Awards 2023 take place today\,  Thursday 22 June\, at the Remit Training – Derby Automotive Academy.
URL:https://www.bodyshopmag.com/events-diary/bodyshop-awards-2023-paint-technician-of-the-year-practical-assessment/
LOCATION:Remit Training\, Wincanton Close\, Allenton\, Derby\, Derbyshire\, DE24 8NB\, United Kingdom
CATEGORIES:Awards,General Events
ORGANIZER;CN="Bodyshop Magazine":MAILTO:info@bodyshopmag.com
END:VEVENT
BEGIN:VEVENT
DTSTART;TZID=Europe/London:20230622T140000
DTEND;TZID=Europe/London:20230622T144500
DTSTAMP:20260422T063259
CREATED:20230530T132334Z
LAST-MODIFIED:20230530T132334Z
UID:43364-1687442400-1687445100@www.bodyshopmag.com
SUMMARY:AM Electric Vehicle Webinar
DESCRIPTION:Franchised dealers must rapidly get to grips with selling\, and servicing\, higher volumes of electric vehicles and plug-in hybrids as the UK government has reiterated its 2030 deadline for the end of internal combustion engine new cars. This webinar will discuss what dealerships are doing now to help inform consumers and increase their sales of both new and used EVs\, and how their businesses are expected to change in the coming years as EVs become commonplace.
URL:https://www.bodyshopmag.com/events-diary/am-electric-vehicle-webinar/
LOCATION:Webinar
CATEGORIES:General Events
ORGANIZER;CN="Automotive Management (AM Online)":MAILTO:https://www.am-online.com/contact-us/
END:VEVENT
END:VCALENDAR