BEGIN:VCALENDAR
VERSION:2.0
PRODID:-//Bodyshop Magazine - ECPv6.15.18//NONSGML v1.0//EN
CALSCALE:GREGORIAN
METHOD:PUBLISH
X-ORIGINAL-URL:https://www.bodyshopmag.com
X-WR-CALDESC:Events for Bodyshop Magazine
REFRESH-INTERVAL;VALUE=DURATION:PT1H
X-Robots-Tag:noindex
X-PUBLISHED-TTL:PT1H
BEGIN:VTIMEZONE
TZID:Europe/London
BEGIN:DAYLIGHT
TZOFFSETFROM:+0000
TZOFFSETTO:+0100
TZNAME:BST
DTSTART:20220327T010000
END:DAYLIGHT
BEGIN:STANDARD
TZOFFSETFROM:+0100
TZOFFSETTO:+0000
TZNAME:GMT
DTSTART:20221030T010000
END:STANDARD
BEGIN:DAYLIGHT
TZOFFSETFROM:+0000
TZOFFSETTO:+0100
TZNAME:BST
DTSTART:20230326T010000
END:DAYLIGHT
BEGIN:STANDARD
TZOFFSETFROM:+0100
TZOFFSETTO:+0000
TZNAME:GMT
DTSTART:20231029T010000
END:STANDARD
BEGIN:DAYLIGHT
TZOFFSETFROM:+0000
TZOFFSETTO:+0100
TZNAME:BST
DTSTART:20240331T010000
END:DAYLIGHT
BEGIN:STANDARD
TZOFFSETFROM:+0100
TZOFFSETTO:+0000
TZNAME:GMT
DTSTART:20241027T010000
END:STANDARD
END:VTIMEZONE
BEGIN:VEVENT
DTSTART;TZID=Europe/London:20230618T090000
DTEND;TZID=Europe/London:20230618T170000
DTSTAMP:20260422T063439
CREATED:20221122T095931Z
LAST-MODIFIED:20221122T095931Z
UID:41286-1687078800-1687107600@www.bodyshopmag.com
SUMMARY:Masters of Motoring 2023
DESCRIPTION:June 2023 will mark the debut of Masters of Motoring\, a new premium motoring lifestyle event from Great British Motor Shows. The new show should prove to be a great addition to early summer motoring/collectors calendar both in the UK and internationally. Masters of Motoring will be a combination of high-level classic and performance car displays\, married with a carefully selected mix of leisure and lifestyle luxury retail opportunities\, and hospitality – all set against the beautiful backdrop of the Lansdowne family home at Bowood House & Gardens\, in Wiltshire.
URL:https://www.bodyshopmag.com/events-diary/masters-of-motoring-2023/
LOCATION:Bowood House and Gardens\, Home Farm Close\, Calne\, SN11 0LZ\, United Kingdom
CATEGORIES:General Events
ORGANIZER;CN="Great British Motor Shows":MAILTO:steve@greatbritishmotorshows.com
END:VEVENT
END:VCALENDAR