BEGIN:VCALENDAR
VERSION:2.0
PRODID:-//Bodyshop Magazine - ECPv6.15.18//NONSGML v1.0//EN
CALSCALE:GREGORIAN
METHOD:PUBLISH
X-ORIGINAL-URL:https://www.bodyshopmag.com
X-WR-CALDESC:Events for Bodyshop Magazine
REFRESH-INTERVAL;VALUE=DURATION:PT1H
X-Robots-Tag:noindex
X-PUBLISHED-TTL:PT1H
BEGIN:VTIMEZONE
TZID:Europe/London
BEGIN:DAYLIGHT
TZOFFSETFROM:+0000
TZOFFSETTO:+0100
TZNAME:BST
DTSTART:20220327T010000
END:DAYLIGHT
BEGIN:STANDARD
TZOFFSETFROM:+0100
TZOFFSETTO:+0000
TZNAME:GMT
DTSTART:20221030T010000
END:STANDARD
BEGIN:DAYLIGHT
TZOFFSETFROM:+0000
TZOFFSETTO:+0100
TZNAME:BST
DTSTART:20230326T010000
END:DAYLIGHT
BEGIN:STANDARD
TZOFFSETFROM:+0100
TZOFFSETTO:+0000
TZNAME:GMT
DTSTART:20231029T010000
END:STANDARD
BEGIN:DAYLIGHT
TZOFFSETFROM:+0000
TZOFFSETTO:+0100
TZNAME:BST
DTSTART:20240331T010000
END:DAYLIGHT
BEGIN:STANDARD
TZOFFSETFROM:+0100
TZOFFSETTO:+0000
TZNAME:GMT
DTSTART:20241027T010000
END:STANDARD
END:VTIMEZONE
BEGIN:VEVENT
DTSTART;TZID=Europe/London:20230612T090000
DTEND;TZID=Europe/London:20230613T170000
DTSTAMP:20260422T063304
CREATED:20230126T102837Z
LAST-MODIFIED:20230126T102837Z
UID:41960-1686560400-1686675600@www.bodyshopmag.com
SUMMARY:Insurance Innovators Munich (Germany)
DESCRIPTION:Insurance Innovators Munich aims to bring together 500-plus leaders from across the European insurance landscape\, including some of the most senior insurance leaders and disruptors\, with the aim of defining strategic priorities\, form ground-breaking partnerships and stay ahead of the innovation curve.
URL:https://www.bodyshopmag.com/events-diary/insurance-innovators-munich-germany/
LOCATION:Sofitel Munich Bayerpost\, Bayerstraße 12\, München\, 80335\, Germany
CATEGORIES:General Events
END:VEVENT
BEGIN:VEVENT
DTSTART;TZID=Europe/London:20230613T100000
DTEND;TZID=Europe/London:20230615T170000
DTSTAMP:20260422T063304
CREATED:20221117T144101Z
LAST-MODIFIED:20221117T144101Z
UID:41262-1686650400-1686848400@www.bodyshopmag.com
SUMMARY:Multimodal 2023
DESCRIPTION:Multimodal 2023 celebrates sixteen years of putting shippers\, retailers\, manufacturers\, wholesalers\, importers and exporters in front of exhibitors who offer the latest logistics and supply chain solutions.   Multimodal is firmly established as the UK\, Ireland and Northern Europe’s premier freight transport\, logistics and supply chain management event.
URL:https://www.bodyshopmag.com/events-diary/multimodal-2023/
LOCATION:National Exhibition Centre (NEC)\, North Avenue\, Marston Green\, Birmingham\, B40 1NT\, United Kingdom
CATEGORIES:Awards,General Events
END:VEVENT
END:VCALENDAR