BEGIN:VCALENDAR
VERSION:2.0
PRODID:-//Bodyshop Magazine - ECPv6.15.18//NONSGML v1.0//EN
CALSCALE:GREGORIAN
METHOD:PUBLISH
X-WR-CALNAME:Bodyshop Magazine
X-ORIGINAL-URL:https://www.bodyshopmag.com
X-WR-CALDESC:Events for Bodyshop Magazine
REFRESH-INTERVAL;VALUE=DURATION:PT1H
X-Robots-Tag:noindex
X-PUBLISHED-TTL:PT1H
BEGIN:VTIMEZONE
TZID:Europe/London
BEGIN:DAYLIGHT
TZOFFSETFROM:+0000
TZOFFSETTO:+0100
TZNAME:BST
DTSTART:20220327T010000
END:DAYLIGHT
BEGIN:STANDARD
TZOFFSETFROM:+0100
TZOFFSETTO:+0000
TZNAME:GMT
DTSTART:20221030T010000
END:STANDARD
BEGIN:DAYLIGHT
TZOFFSETFROM:+0000
TZOFFSETTO:+0100
TZNAME:BST
DTSTART:20230326T010000
END:DAYLIGHT
BEGIN:STANDARD
TZOFFSETFROM:+0100
TZOFFSETTO:+0000
TZNAME:GMT
DTSTART:20231029T010000
END:STANDARD
BEGIN:DAYLIGHT
TZOFFSETFROM:+0000
TZOFFSETTO:+0100
TZNAME:BST
DTSTART:20240331T010000
END:DAYLIGHT
BEGIN:STANDARD
TZOFFSETFROM:+0100
TZOFFSETTO:+0000
TZNAME:GMT
DTSTART:20241027T010000
END:STANDARD
END:VTIMEZONE
BEGIN:VEVENT
DTSTART;TZID=Europe/London:20230531T090000
DTEND;TZID=Europe/London:20230531T170000
DTSTAMP:20260422T062940
CREATED:20230301T140814Z
LAST-MODIFIED:20230301T141437Z
UID:42328-1685523600-1685552400@www.bodyshopmag.com
SUMMARY:BODYSHOP AWARDS 2023 ADVANCED TECHNOLOGIES PRACTICAL ASSESSMENTS
DESCRIPTION:The practical assessments for the finalists in the Powered by asTech – Bodyshop Thatcham Advanced Technologies Technician of the Year category of the Bodyshop Awards 2023 take place 31 May-1 June at Thatcham Research.
URL:https://www.bodyshopmag.com/events-diary/bodyshop-awards-2023-advanced-technologies-practical-assessments/
LOCATION:Thatcham Research\, Colthrop Way\, Thatcham\, Berkshire\, RG19 4NR\, United Kingdom
CATEGORIES:Awards,General Events
ORGANIZER;CN="Bodyshop Magazine":MAILTO:info@bodyshopmag.com
END:VEVENT
END:VCALENDAR