BEGIN:VCALENDAR
VERSION:2.0
PRODID:-//Bodyshop Magazine - ECPv6.15.18//NONSGML v1.0//EN
CALSCALE:GREGORIAN
METHOD:PUBLISH
X-WR-CALNAME:Bodyshop Magazine
X-ORIGINAL-URL:https://www.bodyshopmag.com
X-WR-CALDESC:Events for Bodyshop Magazine
REFRESH-INTERVAL;VALUE=DURATION:PT1H
X-Robots-Tag:noindex
X-PUBLISHED-TTL:PT1H
BEGIN:VTIMEZONE
TZID:Europe/London
BEGIN:DAYLIGHT
TZOFFSETFROM:+0000
TZOFFSETTO:+0100
TZNAME:BST
DTSTART:20220327T010000
END:DAYLIGHT
BEGIN:STANDARD
TZOFFSETFROM:+0100
TZOFFSETTO:+0000
TZNAME:GMT
DTSTART:20221030T010000
END:STANDARD
BEGIN:DAYLIGHT
TZOFFSETFROM:+0000
TZOFFSETTO:+0100
TZNAME:BST
DTSTART:20230326T010000
END:DAYLIGHT
BEGIN:STANDARD
TZOFFSETFROM:+0100
TZOFFSETTO:+0000
TZNAME:GMT
DTSTART:20231029T010000
END:STANDARD
BEGIN:DAYLIGHT
TZOFFSETFROM:+0000
TZOFFSETTO:+0100
TZNAME:BST
DTSTART:20240331T010000
END:DAYLIGHT
BEGIN:STANDARD
TZOFFSETFROM:+0100
TZOFFSETTO:+0000
TZNAME:GMT
DTSTART:20241027T010000
END:STANDARD
END:VTIMEZONE
BEGIN:VEVENT
DTSTART;TZID=Europe/London:20230509T090000
DTEND;TZID=Europe/London:20230511T170000
DTSTAMP:20260422T080918
CREATED:20221109T114747Z
LAST-MODIFIED:20221109T123656Z
UID:41184-1683622800-1683824400@www.bodyshopmag.com
SUMMARY:FT Future of the Car 2023 (hybrid)
DESCRIPTION:Now in its 9th year\, one of the most highly anticipated gatherings of carmakers and their technology partners in the global automotive events calendar returns in person for three days of interviews and lively panel discussions\, plus live-streamed digital content. The Financial Times Future of the Car summit is where OEMs\, industry movers and challenger brands come together to examine the technology\, consumer and business model trends forever changing the way cars are made and sold.
URL:https://www.bodyshopmag.com/events-diary/ft-future-of-the-car-2023-hybrid/
LOCATION:TBC
CATEGORIES:General Events
ORGANIZER;CN="FT Live":MAILTO:ftlive@ft.com
END:VEVENT
END:VCALENDAR