BEGIN:VCALENDAR
VERSION:2.0
PRODID:-//Bodyshop Magazine - ECPv6.15.18//NONSGML v1.0//EN
CALSCALE:GREGORIAN
METHOD:PUBLISH
X-ORIGINAL-URL:https://www.bodyshopmag.com
X-WR-CALDESC:Events for Bodyshop Magazine
REFRESH-INTERVAL;VALUE=DURATION:PT1H
X-Robots-Tag:noindex
X-PUBLISHED-TTL:PT1H
BEGIN:VTIMEZONE
TZID:Europe/London
BEGIN:DAYLIGHT
TZOFFSETFROM:+0000
TZOFFSETTO:+0100
TZNAME:BST
DTSTART:20220327T010000
END:DAYLIGHT
BEGIN:STANDARD
TZOFFSETFROM:+0100
TZOFFSETTO:+0000
TZNAME:GMT
DTSTART:20221030T010000
END:STANDARD
BEGIN:DAYLIGHT
TZOFFSETFROM:+0000
TZOFFSETTO:+0100
TZNAME:BST
DTSTART:20230326T010000
END:DAYLIGHT
BEGIN:STANDARD
TZOFFSETFROM:+0100
TZOFFSETTO:+0000
TZNAME:GMT
DTSTART:20231029T010000
END:STANDARD
BEGIN:DAYLIGHT
TZOFFSETFROM:+0000
TZOFFSETTO:+0100
TZNAME:BST
DTSTART:20240331T010000
END:DAYLIGHT
BEGIN:STANDARD
TZOFFSETFROM:+0100
TZOFFSETTO:+0000
TZNAME:GMT
DTSTART:20241027T010000
END:STANDARD
END:VTIMEZONE
BEGIN:VEVENT
DTSTART;TZID=Europe/London:20230427T090000
DTEND;TZID=Europe/London:20230428T170000
DTSTAMP:20260422T081059
CREATED:20230324T094103Z
LAST-MODIFIED:20230324T094103Z
UID:42663-1682586000-1682701200@www.bodyshopmag.com
SUMMARY:2nd AI Automotive Summit (hybrid)
DESCRIPTION:AI is enhancing self-driving cars and AI’s wider role in the automotive industry is one of the trendiest topics today\, and the further development of autonomous cars will be one of the main focuses of the 2nd AI Automotive Summit. Join the key players and experts in the field when they get together in Munich and online to explore the next-generation AI for automated and self-driving cars.
URL:https://www.bodyshopmag.com/events-diary/2nd-ai-automotive-summit-hybrid/
LOCATION:Webinar
CATEGORIES:General Events
ORGANIZER;CN="Vonlanthen Group":MAILTO:summits@vonlanthengroup.com
END:VEVENT
BEGIN:VEVENT
DTSTART;TZID=Europe/London:20230428T090000
DTEND;TZID=Europe/London:20230430T170000
DTSTAMP:20260422T081059
CREATED:20221031T164910Z
LAST-MODIFIED:20221130T110441Z
UID:40798-1682672400-1682874000@www.bodyshopmag.com
SUMMARY:Fully Charged Live 2023 (Farnborough)
DESCRIPTION:The UK’s number one clean energy and electric vehicle show is returning to Farnborough (28-30 April) and Harrogate (19-21 May)  in 2023 and is aiming to be bigger and better. Both events will showcase a host of quality indoor and outdoor exhibits and attractions.
URL:https://www.bodyshopmag.com/events-diary/fully-charged-live-2023-farnborough/
LOCATION:Farnborough International Exhibition and Conference Centre\, Etps Road\, Farnborough\, GU14 6FD\, United Kingdom
CATEGORIES:General Events
END:VEVENT
END:VCALENDAR