BEGIN:VCALENDAR
VERSION:2.0
PRODID:-//Bodyshop Magazine - ECPv6.15.18//NONSGML v1.0//EN
CALSCALE:GREGORIAN
METHOD:PUBLISH
X-WR-CALNAME:Bodyshop Magazine
X-ORIGINAL-URL:https://www.bodyshopmag.com
X-WR-CALDESC:Events for Bodyshop Magazine
REFRESH-INTERVAL;VALUE=DURATION:PT1H
X-Robots-Tag:noindex
X-PUBLISHED-TTL:PT1H
BEGIN:VTIMEZONE
TZID:Europe/London
BEGIN:DAYLIGHT
TZOFFSETFROM:+0000
TZOFFSETTO:+0100
TZNAME:BST
DTSTART:20220327T010000
END:DAYLIGHT
BEGIN:STANDARD
TZOFFSETFROM:+0100
TZOFFSETTO:+0000
TZNAME:GMT
DTSTART:20221030T010000
END:STANDARD
BEGIN:DAYLIGHT
TZOFFSETFROM:+0000
TZOFFSETTO:+0100
TZNAME:BST
DTSTART:20230326T010000
END:DAYLIGHT
BEGIN:STANDARD
TZOFFSETFROM:+0100
TZOFFSETTO:+0000
TZNAME:GMT
DTSTART:20231029T010000
END:STANDARD
BEGIN:DAYLIGHT
TZOFFSETFROM:+0000
TZOFFSETTO:+0100
TZNAME:BST
DTSTART:20240331T010000
END:DAYLIGHT
BEGIN:STANDARD
TZOFFSETFROM:+0100
TZOFFSETTO:+0000
TZNAME:GMT
DTSTART:20241027T010000
END:STANDARD
END:VTIMEZONE
BEGIN:VEVENT
DTSTART;TZID=Europe/London:20230417T090000
DTEND;TZID=Europe/London:20230418T170000
DTSTAMP:20260422T080911
CREATED:20230126T104110Z
LAST-MODIFIED:20230126T104533Z
UID:41965-1681722000-1681837200@www.bodyshopmag.com
SUMMARY:Insurance Innovators USA
DESCRIPTION:Designed by insurance carriers\, for insurance carriers\, Insurance Innovators USA aims to help the sector drive business growth. Taking place in Nashville in April\, it offers a prime opportunity to network with fellow senior insurance leaders\, hear expert opinions\, and uncover new opportunities for innovation and success.
URL:https://www.bodyshopmag.com/events-diary/insurance-innovators-usa/
LOCATION:Music City Centre\, 201 Rep. John Lewis Way South\, Nashville\, TN\, 37203\, United States
CATEGORIES:General Events
END:VEVENT
END:VCALENDAR