BEGIN:VCALENDAR
VERSION:2.0
PRODID:-//Bodyshop Magazine - ECPv6.15.18//NONSGML v1.0//EN
CALSCALE:GREGORIAN
METHOD:PUBLISH
X-ORIGINAL-URL:https://www.bodyshopmag.com
X-WR-CALDESC:Events for Bodyshop Magazine
REFRESH-INTERVAL;VALUE=DURATION:PT1H
X-Robots-Tag:noindex
X-PUBLISHED-TTL:PT1H
BEGIN:VTIMEZONE
TZID:Europe/London
BEGIN:DAYLIGHT
TZOFFSETFROM:+0000
TZOFFSETTO:+0100
TZNAME:BST
DTSTART:20220327T010000
END:DAYLIGHT
BEGIN:STANDARD
TZOFFSETFROM:+0100
TZOFFSETTO:+0000
TZNAME:GMT
DTSTART:20221030T010000
END:STANDARD
BEGIN:DAYLIGHT
TZOFFSETFROM:+0000
TZOFFSETTO:+0100
TZNAME:BST
DTSTART:20230326T010000
END:DAYLIGHT
BEGIN:STANDARD
TZOFFSETFROM:+0100
TZOFFSETTO:+0000
TZNAME:GMT
DTSTART:20231029T010000
END:STANDARD
BEGIN:DAYLIGHT
TZOFFSETFROM:+0000
TZOFFSETTO:+0100
TZNAME:BST
DTSTART:20240331T010000
END:DAYLIGHT
BEGIN:STANDARD
TZOFFSETFROM:+0100
TZOFFSETTO:+0000
TZNAME:GMT
DTSTART:20241027T010000
END:STANDARD
END:VTIMEZONE
BEGIN:VEVENT
DTSTART;TZID=Europe/London:20230412T090000
DTEND;TZID=Europe/London:20230414T170000
DTSTAMP:20260422T081149
CREATED:20221109T094614Z
LAST-MODIFIED:20221109T094614Z
UID:41158-1681290000-1681491600@www.bodyshopmag.com
SUMMARY:Automechanika Astana 2023 (Kazakhstan)
DESCRIPTION:The leading regional trade fair for the automotive service industry targeting trade visitors from Kazakhstan and Central Asia.
URL:https://www.bodyshopmag.com/events-diary/automechanika-astana-2023-kazakhstan/
LOCATION:IEC Expo (Kazakhstan)\, Astana\, Kazakhstan
CATEGORIES:General Events
END:VEVENT
BEGIN:VEVENT
DTSTART;TZID=Europe/London:20230412T093000
DTEND;TZID=Europe/London:20230412T150000
DTSTAMP:20260422T081149
CREATED:20230331T101420Z
LAST-MODIFIED:20230331T101853Z
UID:42865-1681291800-1681311600@www.bodyshopmag.com
SUMMARY:INDASA Experience Roadshow (Peterborough)
DESCRIPTION:The first stop on the new INDASA Experience Roadshow – a series of four training days for technicians\, involving the Refinishing Crew Facebook group members – will be held at Keco Tabs UK’s Peterborough training centre and headquarters on 12 April 2023.
URL:https://www.bodyshopmag.com/events-diary/indasa-experience-roadshow-peterborough/
LOCATION:Keco Tabs UK\, Unit 5\, A1\, Parkway\, Southgate Way\, Orton Southgate\, Peterborough\, PE2 6YN\, United Kingdom
CATEGORIES:General Events
ORGANIZER;CN="INDASA Abrasives UK":MAILTO:office@indasa.co.uk
END:VEVENT
BEGIN:VEVENT
DTSTART;TZID=Europe/London:20230412T120000
DTEND;TZID=Europe/London:20230412T170000
DTSTAMP:20260422T081149
CREATED:20221124T135656Z
LAST-MODIFIED:20221124T135656Z
UID:41340-1681300800-1681318800@www.bodyshopmag.com
SUMMARY:Collision Industry Conference 2023 (Virginia\, USA)
DESCRIPTION:The Collision Industry Conference (CIC) is a forum made up of participants from all bodyshop industry sectors for the express purpose of discussing and exploring today’s issues. The meetings are open to all interested individuals from the collision repair industry\, including repairers\, insurers\, paint and materials companies\, equipment and vehicle manufacturers\, data providers\, representatives of trade associations\, and anyone with an interest in creating a more professional industry.
URL:https://www.bodyshopmag.com/events-diary/collision-industry-conference-2023-virginia-usa/
LOCATION:Richmond Omni\, 100 South 12th Street\, Richmond\, VA\, 23219\, United States
CATEGORIES:General Events
ORGANIZER;CN="Collision Industry Conference (CIC)":MAILTO:info@ciclink.com
END:VEVENT
END:VCALENDAR