BEGIN:VCALENDAR
VERSION:2.0
PRODID:-//Bodyshop Magazine - ECPv6.15.18//NONSGML v1.0//EN
CALSCALE:GREGORIAN
METHOD:PUBLISH
X-ORIGINAL-URL:https://www.bodyshopmag.com
X-WR-CALDESC:Events for Bodyshop Magazine
REFRESH-INTERVAL;VALUE=DURATION:PT1H
X-Robots-Tag:noindex
X-PUBLISHED-TTL:PT1H
BEGIN:VTIMEZONE
TZID:Europe/London
BEGIN:DAYLIGHT
TZOFFSETFROM:+0000
TZOFFSETTO:+0100
TZNAME:BST
DTSTART:20220327T010000
END:DAYLIGHT
BEGIN:STANDARD
TZOFFSETFROM:+0100
TZOFFSETTO:+0000
TZNAME:GMT
DTSTART:20221030T010000
END:STANDARD
BEGIN:DAYLIGHT
TZOFFSETFROM:+0000
TZOFFSETTO:+0100
TZNAME:BST
DTSTART:20230326T010000
END:DAYLIGHT
BEGIN:STANDARD
TZOFFSETFROM:+0100
TZOFFSETTO:+0000
TZNAME:GMT
DTSTART:20231029T010000
END:STANDARD
BEGIN:DAYLIGHT
TZOFFSETFROM:+0000
TZOFFSETTO:+0100
TZNAME:BST
DTSTART:20240331T010000
END:DAYLIGHT
BEGIN:STANDARD
TZOFFSETFROM:+0100
TZOFFSETTO:+0000
TZNAME:GMT
DTSTART:20241027T010000
END:STANDARD
END:VTIMEZONE
BEGIN:VEVENT
DTSTART;TZID=Europe/London:20230324T090000
DTEND;TZID=Europe/London:20230326T170000
DTSTAMP:20260422T095435
CREATED:20230104T103325Z
LAST-MODIFIED:20230104T103325Z
UID:41719-1679648400-1679850000@www.bodyshopmag.com
SUMMARY:Classic Car & Restoration Show 2023
DESCRIPTION:The Practical Classics Classic Car & Restoration Show brings together 1\,000-plus cars on display; 150-plus car clubs representing a wide variety of marques and models; 250-plus exhibitors including restoration companies\, services providers and product suppliers; the Classic Car Auction; celebrities; car competitions; practical workshops on restoration skills and more.
URL:https://www.bodyshopmag.com/events-diary/classic-car-restoration-show-2023/
LOCATION:National Exhibition Centre (NEC)\, North Avenue\, Marston Green\, Birmingham\, B40 1NT\, United Kingdom
CATEGORIES:General Events
END:VEVENT
END:VCALENDAR