BEGIN:VCALENDAR
VERSION:2.0
PRODID:-//Bodyshop Magazine - ECPv6.15.18//NONSGML v1.0//EN
CALSCALE:GREGORIAN
METHOD:PUBLISH
X-ORIGINAL-URL:https://www.bodyshopmag.com
X-WR-CALDESC:Events for Bodyshop Magazine
REFRESH-INTERVAL;VALUE=DURATION:PT1H
X-Robots-Tag:noindex
X-PUBLISHED-TTL:PT1H
BEGIN:VTIMEZONE
TZID:Europe/London
BEGIN:DAYLIGHT
TZOFFSETFROM:+0000
TZOFFSETTO:+0100
TZNAME:BST
DTSTART:20220327T010000
END:DAYLIGHT
BEGIN:STANDARD
TZOFFSETFROM:+0100
TZOFFSETTO:+0000
TZNAME:GMT
DTSTART:20221030T010000
END:STANDARD
BEGIN:DAYLIGHT
TZOFFSETFROM:+0000
TZOFFSETTO:+0100
TZNAME:BST
DTSTART:20230326T010000
END:DAYLIGHT
BEGIN:STANDARD
TZOFFSETFROM:+0100
TZOFFSETTO:+0000
TZNAME:GMT
DTSTART:20231029T010000
END:STANDARD
BEGIN:DAYLIGHT
TZOFFSETFROM:+0000
TZOFFSETTO:+0100
TZNAME:BST
DTSTART:20240331T010000
END:DAYLIGHT
BEGIN:STANDARD
TZOFFSETFROM:+0100
TZOFFSETTO:+0000
TZNAME:GMT
DTSTART:20241027T010000
END:STANDARD
END:VTIMEZONE
BEGIN:VEVENT
DTSTART;TZID=Europe/London:20230320T090000
DTEND;TZID=Europe/London:20230324T170000
DTSTAMP:20260422T095415
CREATED:20221017T100646Z
LAST-MODIFIED:20221017T100646Z
UID:40687-1679302800-1679677200@www.bodyshopmag.com
SUMMARY:Video Analysis in Collision Reconstruction (ITAI webinar)
DESCRIPTION:The Institute of Traffic Accident Investigators announce the provision of a training course on the subject of Video Analysis in Collision Reconstruction\, presented by FCIR. This course is aimed at collision investigators who routinely handle CCTV footage from numerous sources. \nThis course will discuss the fundamentals of image capture\, image compression\, image handling and artefacts relevant to the collision investigator. Techniques for establishing frame time intervals and subject positioning using photogrammetry are also covered within this training. Image presentation is also discussed within this course\, with example case studies. A competency examination will also feature at the end of the course with a certificate issued upon successful completion.
URL:https://www.bodyshopmag.com/events-diary/video-analysis-in-collision-reconstruction-itai-webinar/
LOCATION:Webinar
CATEGORIES:General Events
ORGANIZER;CN="Institute of Traffic Accident Investigators (ITAI)":MAILTO:admin@itai.org
END:VEVENT
BEGIN:VEVENT
DTSTART;TZID=Europe/London:20230321T090000
DTEND;TZID=Europe/London:20230323T170000
DTSTAMP:20260422T095415
CREATED:20230126T103531Z
LAST-MODIFIED:20230126T103656Z
UID:41962-1679389200-1679590800@www.bodyshopmag.com
SUMMARY:Insurance Innovators Nordics (Denmark)
DESCRIPTION:This event aims to unite the insurance industry’s big hitters and trailblazing tech titans from across Scandinavia and the rest of northern Europe. Insurance Innovators Nordics is the insurance event fuelling a new era of growth.
URL:https://www.bodyshopmag.com/events-diary/insurance-innovators-nordics-denmark/
LOCATION:Radisson Blu Scandinavia Hotel Copenhagen\, Amager Boulevard 70\, København\, 2300\, Denmark
CATEGORIES:General Events
END:VEVENT
END:VCALENDAR