BEGIN:VCALENDAR
VERSION:2.0
PRODID:-//Bodyshop Magazine - ECPv6.15.18//NONSGML v1.0//EN
CALSCALE:GREGORIAN
METHOD:PUBLISH
X-ORIGINAL-URL:https://www.bodyshopmag.com
X-WR-CALDESC:Events for Bodyshop Magazine
REFRESH-INTERVAL;VALUE=DURATION:PT1H
X-Robots-Tag:noindex
X-PUBLISHED-TTL:PT1H
BEGIN:VTIMEZONE
TZID:Europe/London
BEGIN:DAYLIGHT
TZOFFSETFROM:+0000
TZOFFSETTO:+0100
TZNAME:BST
DTSTART:20220327T010000
END:DAYLIGHT
BEGIN:STANDARD
TZOFFSETFROM:+0100
TZOFFSETTO:+0000
TZNAME:GMT
DTSTART:20221030T010000
END:STANDARD
BEGIN:DAYLIGHT
TZOFFSETFROM:+0000
TZOFFSETTO:+0100
TZNAME:BST
DTSTART:20230326T010000
END:DAYLIGHT
BEGIN:STANDARD
TZOFFSETFROM:+0100
TZOFFSETTO:+0000
TZNAME:GMT
DTSTART:20231029T010000
END:STANDARD
BEGIN:DAYLIGHT
TZOFFSETFROM:+0000
TZOFFSETTO:+0100
TZNAME:BST
DTSTART:20240331T010000
END:DAYLIGHT
BEGIN:STANDARD
TZOFFSETFROM:+0100
TZOFFSETTO:+0000
TZNAME:GMT
DTSTART:20241027T010000
END:STANDARD
END:VTIMEZONE
BEGIN:VEVENT
DTSTART;TZID=Europe/London:20230315T180000
DTEND;TZID=Europe/London:20230315T233000
DTSTAMP:20260422T095430
CREATED:20230104T102228Z
LAST-MODIFIED:20230104T102617Z
UID:41718-1678903200-1678923000@www.bodyshopmag.com
SUMMARY:Fleet News Awards 2023
DESCRIPTION:The Fleet News Awards are back with new categories and new opportunities for fleet operators\, vehicle manufacturers and suppliers to the sector.
URL:https://www.bodyshopmag.com/events-diary/fleet-news-awards-2023/
LOCATION:JW Marriott Grosvenor House\, 86-90 Park Lane\, London\, W1K 7TN\, United Kingdom
CATEGORIES:Awards,General Events
END:VEVENT
BEGIN:VEVENT
DTSTART;TZID=Europe/London:20230315T183000
DTEND;TZID=Europe/London:20230315T223000
DTSTAMP:20260422T095430
CREATED:20221031T145212Z
LAST-MODIFIED:20230104T170423Z
UID:40787-1678905000-1678919400@www.bodyshopmag.com
SUMMARY:IMI Annual Dinner and Awards 2023
DESCRIPTION:The IMI Annual Dinner and IMI Awards offer a great opportunity to celebrate with your automotive industry peers\, family and friends\, recognising the incredible talent\, commitment and passion driving the sector forward. The evening will include special guests as well as dinner entertainment.
URL:https://www.bodyshopmag.com/events-diary/imi-annual-dinner-and-awards-2023/
LOCATION:InterContinental London Park Lane\, One Hamilton Place\, Park Lane\, London\, W1J 7QY\, United Kingdom
CATEGORIES:Awards,General Events
END:VEVENT
END:VCALENDAR