BEGIN:VCALENDAR
VERSION:2.0
PRODID:-//Bodyshop Magazine - ECPv6.15.18//NONSGML v1.0//EN
CALSCALE:GREGORIAN
METHOD:PUBLISH
X-ORIGINAL-URL:https://www.bodyshopmag.com
X-WR-CALDESC:Events for Bodyshop Magazine
REFRESH-INTERVAL;VALUE=DURATION:PT1H
X-Robots-Tag:noindex
X-PUBLISHED-TTL:PT1H
BEGIN:VTIMEZONE
TZID:Europe/London
BEGIN:DAYLIGHT
TZOFFSETFROM:+0000
TZOFFSETTO:+0100
TZNAME:BST
DTSTART:20220327T010000
END:DAYLIGHT
BEGIN:STANDARD
TZOFFSETFROM:+0100
TZOFFSETTO:+0000
TZNAME:GMT
DTSTART:20221030T010000
END:STANDARD
BEGIN:DAYLIGHT
TZOFFSETFROM:+0000
TZOFFSETTO:+0100
TZNAME:BST
DTSTART:20230326T010000
END:DAYLIGHT
BEGIN:STANDARD
TZOFFSETFROM:+0100
TZOFFSETTO:+0000
TZNAME:GMT
DTSTART:20231029T010000
END:STANDARD
BEGIN:DAYLIGHT
TZOFFSETFROM:+0000
TZOFFSETTO:+0100
TZNAME:BST
DTSTART:20240331T010000
END:DAYLIGHT
BEGIN:STANDARD
TZOFFSETFROM:+0100
TZOFFSETTO:+0000
TZNAME:GMT
DTSTART:20241027T010000
END:STANDARD
END:VTIMEZONE
BEGIN:VEVENT
DTSTART;TZID=Europe/London:20230309T190000
DTEND;TZID=Europe/London:20230309T233000
DTSTAMP:20260422T095411
CREATED:20221109T094156Z
LAST-MODIFIED:20221109T094156Z
UID:41155-1678388400-1678404600@www.bodyshopmag.com
SUMMARY:National Insurance Awards 2023
DESCRIPTION:Celebrating excellence in the insurance sector\, the National Insurance Awards by Insurance Today highlight the best in general insurance provision and management. Featuring a range of categories for companies and teams that demonstrate excellence in their field.
URL:https://www.bodyshopmag.com/events-diary/national-insurance-awards-2023/
LOCATION:London Marriott Grosvenor Square\, Grosvenor Square\, London\, W1K 6JP\, United Kingdom
CATEGORIES:Awards,General Events
ORGANIZER;CN="Insurance Today":MAILTO:newsdesk@insurancetoday.co.uk
END:VEVENT
END:VCALENDAR