BEGIN:VCALENDAR
VERSION:2.0
PRODID:-//Bodyshop Magazine - ECPv6.15.18//NONSGML v1.0//EN
CALSCALE:GREGORIAN
METHOD:PUBLISH
X-ORIGINAL-URL:https://www.bodyshopmag.com
X-WR-CALDESC:Events for Bodyshop Magazine
REFRESH-INTERVAL;VALUE=DURATION:PT1H
X-Robots-Tag:noindex
X-PUBLISHED-TTL:PT1H
BEGIN:VTIMEZONE
TZID:Europe/London
BEGIN:DAYLIGHT
TZOFFSETFROM:+0000
TZOFFSETTO:+0100
TZNAME:BST
DTSTART:20220327T010000
END:DAYLIGHT
BEGIN:STANDARD
TZOFFSETFROM:+0100
TZOFFSETTO:+0000
TZNAME:GMT
DTSTART:20221030T010000
END:STANDARD
BEGIN:DAYLIGHT
TZOFFSETFROM:+0000
TZOFFSETTO:+0100
TZNAME:BST
DTSTART:20230326T010000
END:DAYLIGHT
BEGIN:STANDARD
TZOFFSETFROM:+0100
TZOFFSETTO:+0000
TZNAME:GMT
DTSTART:20231029T010000
END:STANDARD
BEGIN:DAYLIGHT
TZOFFSETFROM:+0000
TZOFFSETTO:+0100
TZNAME:BST
DTSTART:20240331T010000
END:DAYLIGHT
BEGIN:STANDARD
TZOFFSETFROM:+0100
TZOFFSETTO:+0000
TZNAME:GMT
DTSTART:20241027T010000
END:STANDARD
END:VTIMEZONE
BEGIN:VEVENT
DTSTART;TZID=Europe/London:20230307T090000
DTEND;TZID=Europe/London:20230307T170000
DTSTAMP:20260422T154119
CREATED:20221017T145355Z
LAST-MODIFIED:20221017T163922Z
UID:40708-1678179600-1678208400@www.bodyshopmag.com
SUMMARY:Insurance Innovators: Fraud & Claims
DESCRIPTION:Insurance Innovators: Fraud & Claims aims to bring together 250+ industry professionals and 30+ expert speakers on 7 March 2023\, Guoman Tower Hotel\, London to give fraud and claims professionals the tools for transformation in the rapidly evolving world of insurance. \nFrom deep-diving into the claims IoT revolution and horizon scanning for emerging fraud trends to re-imagining insurance in the world of Web3 this event is expected to deliver.
URL:https://www.bodyshopmag.com/events-diary/insurance-innovators-fraud-claims/
LOCATION:The Tower Hotel (Guoman)\, St Katharine's Way\, London\, E1W 1LD\, United Kingdom
CATEGORIES:General Events
END:VEVENT
END:VCALENDAR