BEGIN:VCALENDAR
VERSION:2.0
PRODID:-//Bodyshop Magazine - ECPv6.15.18//NONSGML v1.0//EN
CALSCALE:GREGORIAN
METHOD:PUBLISH
X-WR-CALNAME:Bodyshop Magazine
X-ORIGINAL-URL:https://www.bodyshopmag.com
X-WR-CALDESC:Events for Bodyshop Magazine
REFRESH-INTERVAL;VALUE=DURATION:PT1H
X-Robots-Tag:noindex
X-PUBLISHED-TTL:PT1H
BEGIN:VTIMEZONE
TZID:Europe/London
BEGIN:DAYLIGHT
TZOFFSETFROM:+0000
TZOFFSETTO:+0100
TZNAME:BST
DTSTART:20210328T010000
END:DAYLIGHT
BEGIN:STANDARD
TZOFFSETFROM:+0100
TZOFFSETTO:+0000
TZNAME:GMT
DTSTART:20211031T010000
END:STANDARD
BEGIN:DAYLIGHT
TZOFFSETFROM:+0000
TZOFFSETTO:+0100
TZNAME:BST
DTSTART:20220327T010000
END:DAYLIGHT
BEGIN:STANDARD
TZOFFSETFROM:+0100
TZOFFSETTO:+0000
TZNAME:GMT
DTSTART:20221030T010000
END:STANDARD
BEGIN:DAYLIGHT
TZOFFSETFROM:+0000
TZOFFSETTO:+0100
TZNAME:BST
DTSTART:20230326T010000
END:DAYLIGHT
BEGIN:STANDARD
TZOFFSETFROM:+0100
TZOFFSETTO:+0000
TZNAME:GMT
DTSTART:20231029T010000
END:STANDARD
END:VTIMEZONE
BEGIN:VEVENT
DTSTART;TZID=Europe/London:20221129T090000
DTEND;TZID=Europe/London:20221201T170000
DTSTAMP:20260425T042255
CREATED:20220707T110637Z
LAST-MODIFIED:20220707T110637Z
UID:39696-1669712400-1669914000@www.bodyshopmag.com
SUMMARY:The London EV Show 2022
DESCRIPTION:The London EV Show 2022 aims to provide a platform for “influential voices and important players from the entire EV spectrum to convene at the highest level\, exchange trailblazing ideas and strategise on advancing EV adoption”. Alongside this conference\, the show will host a massive exhibition at ExCeL London for leading EV businesses to exhibit the latest models\, next-gen electrification technology\, and innovative products and solutions. The three-day exhibition will provide an excellent opportunity for EV enthusiasts to witness the latest the industry has to offer – from e-bikes\, cars\, buses\, trucks\, scooters\, vans\, eVTOL/UAMs\, home and commercial charging systems to disruptive innovations.
URL:https://www.bodyshopmag.com/events-diary/the-london-ev-show-2022/
LOCATION:ExCel London\, Royal Victoria Dock\, 1 Western Gateway\, London\, E16 1XL\, United Kingdom
CATEGORIES:General Events
END:VEVENT
END:VCALENDAR