BEGIN:VCALENDAR
VERSION:2.0
PRODID:-//Bodyshop Magazine - ECPv6.15.18//NONSGML v1.0//EN
CALSCALE:GREGORIAN
METHOD:PUBLISH
X-WR-CALNAME:Bodyshop Magazine
X-ORIGINAL-URL:https://www.bodyshopmag.com
X-WR-CALDESC:Events for Bodyshop Magazine
REFRESH-INTERVAL;VALUE=DURATION:PT1H
X-Robots-Tag:noindex
X-PUBLISHED-TTL:PT1H
BEGIN:VTIMEZONE
TZID:Europe/London
BEGIN:DAYLIGHT
TZOFFSETFROM:+0000
TZOFFSETTO:+0100
TZNAME:BST
DTSTART:20210328T010000
END:DAYLIGHT
BEGIN:STANDARD
TZOFFSETFROM:+0100
TZOFFSETTO:+0000
TZNAME:GMT
DTSTART:20211031T010000
END:STANDARD
BEGIN:DAYLIGHT
TZOFFSETFROM:+0000
TZOFFSETTO:+0100
TZNAME:BST
DTSTART:20220327T010000
END:DAYLIGHT
BEGIN:STANDARD
TZOFFSETFROM:+0100
TZOFFSETTO:+0000
TZNAME:GMT
DTSTART:20221030T010000
END:STANDARD
BEGIN:DAYLIGHT
TZOFFSETFROM:+0000
TZOFFSETTO:+0100
TZNAME:BST
DTSTART:20230326T010000
END:DAYLIGHT
BEGIN:STANDARD
TZOFFSETFROM:+0100
TZOFFSETTO:+0000
TZNAME:GMT
DTSTART:20231029T010000
END:STANDARD
END:VTIMEZONE
BEGIN:VEVENT
DTSTART;TZID=Europe/London:20221122T090000
DTEND;TZID=Europe/London:20221122T170000
DTSTAMP:20260424T231325
CREATED:20221026T082601Z
LAST-MODIFIED:20221026T082601Z
UID:40752-1669107600-1669136400@www.bodyshopmag.com
SUMMARY:Vehicle Remarketing Association Seminar 2022
DESCRIPTION:The VRA Annual Seminar\, the first to be held since the start of the pandemic\, will take place on Tuesday\, 22 November at The Slate\, Warwick University\, with the theme “2023: The Year Ahead in Remarketing” and will be looking at current and new issues affecting the sector.
URL:https://www.bodyshopmag.com/events-diary/vehicle-remarketing-association-seminar-2022/
LOCATION:The Slate\, Warwick University\, Coventry\, Warwickshire\, CV4 7SH\, United Kingdom
CATEGORIES:General Events
ORGANIZER;CN="Vehicle Recyclers' Association (VRA)":MAILTO:contact@thevra.co.uk
END:VEVENT
BEGIN:VEVENT
DTSTART;TZID=Europe/London:20221122T100000
DTEND;TZID=Europe/London:20221122T170000
DTSTAMP:20260424T231325
CREATED:20221028T121345Z
LAST-MODIFIED:20221028T121345Z
UID:40777-1669111200-1669136400@www.bodyshopmag.com
SUMMARY:IGA Industry Update (Havant)
DESCRIPTION:Designed to keep independent garages up to date with the latest industry news and MOT information\, these free-to-attend events are open to all independent garages\, including non-IGA members. They give garages the opportunity to learn about up-to-the-minute essential industry updates\, how to avoid the latest scams and news about any legislation changes\, as well as finding out how the IGA can support their garage businesses. Topics explored at the event include the Motor Vehicle Block Exemption\, access to technical information\, garage work provision and more. \nThe DVSA will also be there to share the latest MOT training news and discuss recent changes to the MOT system\, connected equipment and future developments being considered within the MOT scheme.
URL:https://www.bodyshopmag.com/events-diary/iga-industry-update-havant/
LOCATION:Havant RFC\, Fraser Road\, Havant\, PO9 3EJ\, United Kingdom
CATEGORIES:General Events
ORGANIZER;CN="Independent Garage Association (IGA)":MAILTO:enquiries@rmif.co.uk
END:VEVENT
END:VCALENDAR