BEGIN:VCALENDAR
VERSION:2.0
PRODID:-//Bodyshop Magazine - ECPv6.15.18//NONSGML v1.0//EN
CALSCALE:GREGORIAN
METHOD:PUBLISH
X-WR-CALNAME:Bodyshop Magazine
X-ORIGINAL-URL:https://www.bodyshopmag.com
X-WR-CALDESC:Events for Bodyshop Magazine
REFRESH-INTERVAL;VALUE=DURATION:PT1H
X-Robots-Tag:noindex
X-PUBLISHED-TTL:PT1H
BEGIN:VTIMEZONE
TZID:Europe/London
BEGIN:DAYLIGHT
TZOFFSETFROM:+0000
TZOFFSETTO:+0100
TZNAME:BST
DTSTART:20210328T010000
END:DAYLIGHT
BEGIN:STANDARD
TZOFFSETFROM:+0100
TZOFFSETTO:+0000
TZNAME:GMT
DTSTART:20211031T010000
END:STANDARD
BEGIN:DAYLIGHT
TZOFFSETFROM:+0000
TZOFFSETTO:+0100
TZNAME:BST
DTSTART:20220327T010000
END:DAYLIGHT
BEGIN:STANDARD
TZOFFSETFROM:+0100
TZOFFSETTO:+0000
TZNAME:GMT
DTSTART:20221030T010000
END:STANDARD
BEGIN:DAYLIGHT
TZOFFSETFROM:+0000
TZOFFSETTO:+0100
TZNAME:BST
DTSTART:20230326T010000
END:DAYLIGHT
BEGIN:STANDARD
TZOFFSETFROM:+0100
TZOFFSETTO:+0000
TZNAME:GMT
DTSTART:20231029T010000
END:STANDARD
END:VTIMEZONE
BEGIN:VEVENT
DTSTART;TZID=Europe/London:20221017T080000
DTEND;TZID=Europe/London:20221023T170000
DTSTAMP:20260425T042257
CREATED:20220606T090909Z
LAST-MODIFIED:20220606T090909Z
UID:39368-1665993600-1666544400@www.bodyshopmag.com
SUMMARY:Paris Motor Show
DESCRIPTION:One of the major car shows in the world\, the Paris Motor Show\, or Mondial de l’Auto\, will take place 17-23 October this year at the Paris Expo Porte de Versailles exhibition venue.
URL:https://www.bodyshopmag.com/events-diary/paris-motor-show/
LOCATION:Paris Expo Porte de Versailles\, 1 Place de la Porte de Versailles\, Paris\, 15th arrondissement\, 75015 Paris\, France
CATEGORIES:General Events
ORGANIZER;CN="Hopscotch Groupe SA":MAILTO:contactonsnous@hopscotchcongres.com
END:VEVENT
END:VCALENDAR