BEGIN:VCALENDAR
VERSION:2.0
PRODID:-//Bodyshop Magazine - ECPv6.15.18//NONSGML v1.0//EN
CALSCALE:GREGORIAN
METHOD:PUBLISH
X-ORIGINAL-URL:https://www.bodyshopmag.com
X-WR-CALDESC:Events for Bodyshop Magazine
REFRESH-INTERVAL;VALUE=DURATION:PT1H
X-Robots-Tag:noindex
X-PUBLISHED-TTL:PT1H
BEGIN:VTIMEZONE
TZID:Europe/London
BEGIN:DAYLIGHT
TZOFFSETFROM:+0000
TZOFFSETTO:+0100
TZNAME:BST
DTSTART:20210328T010000
END:DAYLIGHT
BEGIN:STANDARD
TZOFFSETFROM:+0100
TZOFFSETTO:+0000
TZNAME:GMT
DTSTART:20211031T010000
END:STANDARD
BEGIN:DAYLIGHT
TZOFFSETFROM:+0000
TZOFFSETTO:+0100
TZNAME:BST
DTSTART:20220327T010000
END:DAYLIGHT
BEGIN:STANDARD
TZOFFSETFROM:+0100
TZOFFSETTO:+0000
TZNAME:GMT
DTSTART:20221030T010000
END:STANDARD
BEGIN:DAYLIGHT
TZOFFSETFROM:+0000
TZOFFSETTO:+0100
TZNAME:BST
DTSTART:20230326T010000
END:DAYLIGHT
BEGIN:STANDARD
TZOFFSETFROM:+0100
TZOFFSETTO:+0000
TZNAME:GMT
DTSTART:20231029T010000
END:STANDARD
END:VTIMEZONE
BEGIN:VEVENT
DTSTART;TZID=Europe/London:20220930T080000
DTEND;TZID=Europe/London:20221001T170000
DTSTAMP:20260425T042555
CREATED:20220909T164448Z
LAST-MODIFIED:20220909T164449Z
UID:40311-1664524800-1664643600@www.bodyshopmag.com
SUMMARY:The Refinishing Trade Show 2022
DESCRIPTION:Organisers of the second edition of the Refinishing Trade Show have confirmed that 28 exhibitors – including bodyshop magazine – have signed up for the event which will take place 30 September-1 October at The Edge in Wigan. Aimed directly at spray painters\, technicians and vehicle refinishers\, the show is expected to attract even more exhibitors and a big turnout on the day. \nTrade Show tickets and meal tickets for the curry night networking dinner on the first day are now available from https://www.myautostore.uk/trade-show-2022/.
URL:https://www.bodyshopmag.com/events-diary/the-refinishing-trade-show-2022/
LOCATION:The Edge Arena\, Riveredge\, Wigan\, WN3 5AB
CATEGORIES:General Events
END:VEVENT
END:VCALENDAR