BEGIN:VCALENDAR
VERSION:2.0
PRODID:-//Bodyshop Magazine - ECPv6.15.18//NONSGML v1.0//EN
CALSCALE:GREGORIAN
METHOD:PUBLISH
X-ORIGINAL-URL:https://www.bodyshopmag.com
X-WR-CALDESC:Events for Bodyshop Magazine
REFRESH-INTERVAL;VALUE=DURATION:PT1H
X-Robots-Tag:noindex
X-PUBLISHED-TTL:PT1H
BEGIN:VTIMEZONE
TZID:Europe/London
BEGIN:DAYLIGHT
TZOFFSETFROM:+0000
TZOFFSETTO:+0100
TZNAME:BST
DTSTART:20210328T010000
END:DAYLIGHT
BEGIN:STANDARD
TZOFFSETFROM:+0100
TZOFFSETTO:+0000
TZNAME:GMT
DTSTART:20211031T010000
END:STANDARD
BEGIN:DAYLIGHT
TZOFFSETFROM:+0000
TZOFFSETTO:+0100
TZNAME:BST
DTSTART:20220327T010000
END:DAYLIGHT
BEGIN:STANDARD
TZOFFSETFROM:+0100
TZOFFSETTO:+0000
TZNAME:GMT
DTSTART:20221030T010000
END:STANDARD
BEGIN:DAYLIGHT
TZOFFSETFROM:+0000
TZOFFSETTO:+0100
TZNAME:BST
DTSTART:20230326T010000
END:DAYLIGHT
BEGIN:STANDARD
TZOFFSETFROM:+0100
TZOFFSETTO:+0000
TZNAME:GMT
DTSTART:20231029T010000
END:STANDARD
END:VTIMEZONE
BEGIN:VEVENT
DTSTART;TZID=Europe/London:20220607T090000
DTEND;TZID=Europe/London:20220609T170000
DTSTAMP:20260425T125158
CREATED:20201020T094843Z
LAST-MODIFIED:20211220T094252Z
UID:33521-1654592400-1654794000@www.bodyshopmag.com
SUMMARY:POSTPONED: Automechanika Birmingham
DESCRIPTION:The UK’s leading trade exhibition for the automotive aftermarket and supply chain sector targeting trade visitors from the UK. Because Automechanika Frankfurt was moved to 2021 as a result of the coronavirus pandemic\, and to keep alternating between the UK and Frankfurt events\, Automechanika Birmingham will now take place in June 2023.
URL:https://www.bodyshopmag.com/events-diary/automechanika-birmingham-3/
LOCATION:National Exhibition Centre (NEC)\, North Avenue\, Marston Green\, Birmingham\, B40 1NT\, United Kingdom
CATEGORIES:General Events
END:VEVENT
BEGIN:VEVENT
DTSTART;TZID=Europe/London:20220607T090000
DTEND;TZID=Europe/London:20220610T170000
DTSTAMP:20260425T125158
CREATED:20220519T135342Z
LAST-MODIFIED:20220519T135342Z
UID:39130-1654592400-1654880400@www.bodyshopmag.com
SUMMARY:Automechanika Johannesburg (South Africa)
DESCRIPTION:South Africa’s leading international trade fair for the automotive service industry targeting trade visitors from the sub-Saharan region is set to return to the Johannesburg Expo Centre\, Nasrec\, from 7-10 June 2022. Automechanika Johannesburg is co-located with Futuroad Expo\, sub-Saharan Africa’s leading professional event for the truck\, bus\, and commercial vehicle industry.
URL:https://www.bodyshopmag.com/events-diary/automechanika-johannesburg-south-africa/
LOCATION:JHB Expo Centre\, Nasrec\, Johannesburg\, South Africa
CATEGORIES:General Events
END:VEVENT
BEGIN:VEVENT
DTSTART;TZID=Europe/London:20220608T090000
DTEND;TZID=Europe/London:20220609T170000
DTSTAMP:20260425T125158
CREATED:20210817T090231Z
LAST-MODIFIED:20211220T094220Z
UID:36399-1654678800-1654794000@www.bodyshopmag.com
SUMMARY:The UK Garage and Bodyshop Event
DESCRIPTION:From the organisers of Automechanika Birmingham comes the all-new UK Garage and Bodyshop Event. \nTaking place 8-9 June 2022 at the NEC Birmingham\, the event will feature an exhibition of leading suppliers\, three training hubs – one of which is sponsored by bodyshop magazine – and three feature areas. \nThere will be live demonstrations and accredited training across three key areas: EV Hybrid\, Workshop and Collision Repair\, each offering technical seminars from industry experts covering ADAS\, MOT\, safety/service and repair\, collision repair\, diagnostics\, plus more.
URL:https://www.bodyshopmag.com/events-diary/uk-garage-and-bodyshop-event/
LOCATION:National Exhibition Centre (NEC)\, North Avenue\, Marston Green\, Birmingham\, B40 1NT\, United Kingdom
CATEGORIES:General Events
END:VEVENT
BEGIN:VEVENT
DTSTART;TZID=Europe/London:20220608T090000
DTEND;TZID=Europe/London:20220609T170000
DTSTAMP:20260425T125158
CREATED:20220217T110925Z
LAST-MODIFIED:20220217T110946Z
UID:38093-1654678800-1654794000@www.bodyshopmag.com
SUMMARY:AutoTech: Detroit (USA)
DESCRIPTION:AutoTech: Detroit (formerly TU-Automotive Detroit)\, which is co-located with WardsAuto Interiors and UX Conference\, is returning to the Suburban Collection Showplace in Michigan in June 2022. With 2\,000 attendees\, 100-plus sponsors and exhibitors expected\, AutoTech: Detroit brings together the full automotive tech industry to immerse attendees in the future of automotive\, by showcasing the newest technologies and the latest vehicles.
URL:https://www.bodyshopmag.com/events-diary/38093/
LOCATION:Suburban Collection Showplace\, 46100 Grand River Avenue\, Novi\, Detroit\, MI\, 48374\, United States
CATEGORIES:General Events
END:VEVENT
BEGIN:VEVENT
DTSTART;TZID=Europe/London:20220609T090000
DTEND;TZID=Europe/London:20220609T170000
DTSTAMP:20260425T125158
CREATED:20220526T115017Z
LAST-MODIFIED:20220526T115322Z
UID:39235-1654765200-1654794000@www.bodyshopmag.com
SUMMARY:Vehicle Recycling Conference 2022
DESCRIPTION:The ATF Pro Vehicle Recycling Conference will take place at the Advanced Propulsion Centre in Coventry on 9 June 2022.
URL:https://www.bodyshopmag.com/events-diary/vehicle-recycling-conference-2022/
LOCATION:Advanced Propulsion Centre\, IIPSI Building\, University Road\, Coventry\, CV4 7AL\, United Kingdom
CATEGORIES:General Events
END:VEVENT
END:VCALENDAR