BEGIN:VCALENDAR
VERSION:2.0
PRODID:-//Bodyshop Magazine - ECPv6.15.18//NONSGML v1.0//EN
CALSCALE:GREGORIAN
METHOD:PUBLISH
X-ORIGINAL-URL:https://www.bodyshopmag.com
X-WR-CALDESC:Events for Bodyshop Magazine
REFRESH-INTERVAL;VALUE=DURATION:PT1H
X-Robots-Tag:noindex
X-PUBLISHED-TTL:PT1H
BEGIN:VTIMEZONE
TZID:Europe/London
BEGIN:DAYLIGHT
TZOFFSETFROM:+0000
TZOFFSETTO:+0100
TZNAME:BST
DTSTART:20210328T010000
END:DAYLIGHT
BEGIN:STANDARD
TZOFFSETFROM:+0100
TZOFFSETTO:+0000
TZNAME:GMT
DTSTART:20211031T010000
END:STANDARD
BEGIN:DAYLIGHT
TZOFFSETFROM:+0000
TZOFFSETTO:+0100
TZNAME:BST
DTSTART:20220327T010000
END:DAYLIGHT
BEGIN:STANDARD
TZOFFSETFROM:+0100
TZOFFSETTO:+0000
TZNAME:GMT
DTSTART:20221030T010000
END:STANDARD
BEGIN:DAYLIGHT
TZOFFSETFROM:+0000
TZOFFSETTO:+0100
TZNAME:BST
DTSTART:20230326T010000
END:DAYLIGHT
BEGIN:STANDARD
TZOFFSETFROM:+0100
TZOFFSETTO:+0000
TZNAME:GMT
DTSTART:20231029T010000
END:STANDARD
END:VTIMEZONE
BEGIN:VEVENT
DTSTART;TZID=Europe/London:20220602T080000
DTEND;TZID=Europe/London:20220603T170000
DTSTAMP:20260425T125203
CREATED:20220131T152941Z
LAST-MODIFIED:20220207T160117Z
UID:37952-1654156800-1654275600@www.bodyshopmag.com
SUMMARY:3rd Annual Global Forum on Connected Cars (Germany/hybrid)
DESCRIPTION:This conference will give you insight into the latest developments and available solutions for the next generation of connected vehicles and will be held as a hybrid event to be even more global with more options to network personally and virtually.
URL:https://www.bodyshopmag.com/events-diary/3rd-annual-global-forum-on-connected-cars-2/
LOCATION:Munich\, Germany\, Germany
CATEGORIES:General Events
ORGANIZER;CN="GlobalBSG":MAILTO:info@globalbsg.com
END:VEVENT
END:VCALENDAR