BEGIN:VCALENDAR
VERSION:2.0
PRODID:-//Bodyshop Magazine - ECPv6.15.18//NONSGML v1.0//EN
CALSCALE:GREGORIAN
METHOD:PUBLISH
X-WR-CALNAME:Bodyshop Magazine
X-ORIGINAL-URL:https://www.bodyshopmag.com
X-WR-CALDESC:Events for Bodyshop Magazine
REFRESH-INTERVAL;VALUE=DURATION:PT1H
X-Robots-Tag:noindex
X-PUBLISHED-TTL:PT1H
BEGIN:VTIMEZONE
TZID:Europe/London
BEGIN:DAYLIGHT
TZOFFSETFROM:+0000
TZOFFSETTO:+0100
TZNAME:BST
DTSTART:20200329T010000
END:DAYLIGHT
BEGIN:STANDARD
TZOFFSETFROM:+0100
TZOFFSETTO:+0000
TZNAME:GMT
DTSTART:20201025T010000
END:STANDARD
BEGIN:DAYLIGHT
TZOFFSETFROM:+0000
TZOFFSETTO:+0100
TZNAME:BST
DTSTART:20210328T010000
END:DAYLIGHT
BEGIN:STANDARD
TZOFFSETFROM:+0100
TZOFFSETTO:+0000
TZNAME:GMT
DTSTART:20211031T010000
END:STANDARD
BEGIN:DAYLIGHT
TZOFFSETFROM:+0000
TZOFFSETTO:+0100
TZNAME:BST
DTSTART:20220327T010000
END:DAYLIGHT
BEGIN:STANDARD
TZOFFSETFROM:+0100
TZOFFSETTO:+0000
TZNAME:GMT
DTSTART:20221030T010000
END:STANDARD
END:VTIMEZONE
BEGIN:VEVENT
DTSTART;TZID=Europe/London:20211204T080000
DTEND;TZID=Europe/London:20211212T170000
DTSTAMP:20260424T141631
CREATED:20211105T150717Z
LAST-MODIFIED:20211105T150717Z
UID:37209-1638604800-1639328400@www.bodyshopmag.com
SUMMARY:Motorcycle Live
DESCRIPTION:The premier motorcycle exhibition in the United Kingdom held from 4-12 December at the NEC\, Birmingham.
URL:https://www.bodyshopmag.com/events-diary/motorcycle-live/
LOCATION:National Exhibition Centre (NEC)\, North Avenue\, Marston Green\, Birmingham\, B40 1NT\, United Kingdom
CATEGORIES:General Events
END:VEVENT
BEGIN:VEVENT
DTSTART;TZID=Europe/London:20211209T080000
DTEND;TZID=Europe/London:20211209T170000
DTSTAMP:20260424T141631
CREATED:20211105T145322Z
LAST-MODIFIED:20211105T145322Z
UID:37207-1639036800-1639069200@www.bodyshopmag.com
SUMMARY:ICFSCCDP 21 (webinar)
DESCRIPTION:International Conference on Functional and Smart Coatings for Corrosion Protection aims to bring together leading academic scientists\, researchers and research scholars to exchange and share their experiences and research results on all aspects of Functional and Smart Coatings for Corrosion Protection.
URL:https://www.bodyshopmag.com/events-diary/icfsccdp-21-webinar/
LOCATION:Webinar
END:VEVENT
END:VCALENDAR