BEGIN:VCALENDAR
VERSION:2.0
PRODID:-//Bodyshop Magazine - ECPv6.15.18//NONSGML v1.0//EN
CALSCALE:GREGORIAN
METHOD:PUBLISH
X-WR-CALNAME:Bodyshop Magazine
X-ORIGINAL-URL:https://www.bodyshopmag.com
X-WR-CALDESC:Events for Bodyshop Magazine
REFRESH-INTERVAL;VALUE=DURATION:PT1H
X-Robots-Tag:noindex
X-PUBLISHED-TTL:PT1H
BEGIN:VTIMEZONE
TZID:Europe/London
BEGIN:DAYLIGHT
TZOFFSETFROM:+0000
TZOFFSETTO:+0100
TZNAME:BST
DTSTART:20200329T010000
END:DAYLIGHT
BEGIN:STANDARD
TZOFFSETFROM:+0100
TZOFFSETTO:+0000
TZNAME:GMT
DTSTART:20201025T010000
END:STANDARD
BEGIN:DAYLIGHT
TZOFFSETFROM:+0000
TZOFFSETTO:+0100
TZNAME:BST
DTSTART:20210328T010000
END:DAYLIGHT
BEGIN:STANDARD
TZOFFSETFROM:+0100
TZOFFSETTO:+0000
TZNAME:GMT
DTSTART:20211031T010000
END:STANDARD
BEGIN:DAYLIGHT
TZOFFSETFROM:+0000
TZOFFSETTO:+0100
TZNAME:BST
DTSTART:20220327T010000
END:DAYLIGHT
BEGIN:STANDARD
TZOFFSETFROM:+0100
TZOFFSETTO:+0000
TZNAME:GMT
DTSTART:20221030T010000
END:STANDARD
END:VTIMEZONE
BEGIN:VEVENT
DTSTART;TZID=Europe/London:20211101T080000
DTEND;TZID=Europe/London:20211101T170000
DTSTAMP:20260420T214454
CREATED:20210615T140149Z
LAST-MODIFIED:20210615T140149Z
UID:35575-1635753600-1635786000@www.bodyshopmag.com
SUMMARY:MSO Symposium Las Vegas 2021
DESCRIPTION:The 2021 MSO Symposium will be taking place as a live and in-person event on 1 November at the Mandalay Bay in Las Vegas\, NV. \nThe MSO Symposium is an annual collision industry event where repair facility executives from large\, small\, and regional MSOs come to gather with like-minded peers. The event holds discussions around relevant industry issues and reviews their likely impacts on the market.
URL:https://www.bodyshopmag.com/events-diary/mso-symposium-las-vegas-2021/
LOCATION:Mandalay Bay Beach\, 3950 Las Vegas Blvd S\, Las Vegas\, NV\, NV 89119\, United States
CATEGORIES:General Events
ORGANIZER;CN="MSO Symposium":MAILTO:BrianN@msosymposium.com
END:VEVENT
BEGIN:VEVENT
DTSTART;TZID=Europe/London:20211101T080000
DTEND;TZID=Europe/London:20211101T170000
DTSTAMP:20260420T214454
CREATED:20211005T101638Z
LAST-MODIFIED:20211005T101638Z
UID:36744-1635753600-1635786000@www.bodyshopmag.com
SUMMARY:SYNETIQ Carbon Literacy Training Day
DESCRIPTION:SYNETIQ is offering a free accredited carbon literacy training course to members of the automotive sector – with a limited number of places available for registration now. Taking place on Monday\, 1 November\, attendees will receive sustainability-based training and an official certification\, designed to educate and inform on the necessary changes to combat climate change. Hosted via Microsoft Teams\, attendees will also be asked to complete an evaluation following the course. This will include assessment of their everyday activities\, both at home and work\, and their ability and motivation to reduce CO2 emissions. You can sign up for SYNETIQ’s Carbon Literacy Training Course by emailing carbonliteracy@synetiq.co.uk – places are available on a first come\, first served basis.
URL:https://www.bodyshopmag.com/events-diary/synetiq-carbon-literacy-training-day/
LOCATION:Webinar
CATEGORIES:General Events
END:VEVENT
END:VCALENDAR