BEGIN:VCALENDAR
VERSION:2.0
PRODID:-//Bodyshop Magazine - ECPv6.15.18//NONSGML v1.0//EN
CALSCALE:GREGORIAN
METHOD:PUBLISH
X-ORIGINAL-URL:https://www.bodyshopmag.com
X-WR-CALDESC:Events for Bodyshop Magazine
REFRESH-INTERVAL;VALUE=DURATION:PT1H
X-Robots-Tag:noindex
X-PUBLISHED-TTL:PT1H
BEGIN:VTIMEZONE
TZID:Europe/London
BEGIN:DAYLIGHT
TZOFFSETFROM:+0000
TZOFFSETTO:+0100
TZNAME:BST
DTSTART:20200329T010000
END:DAYLIGHT
BEGIN:STANDARD
TZOFFSETFROM:+0100
TZOFFSETTO:+0000
TZNAME:GMT
DTSTART:20201025T010000
END:STANDARD
BEGIN:DAYLIGHT
TZOFFSETFROM:+0000
TZOFFSETTO:+0100
TZNAME:BST
DTSTART:20210328T010000
END:DAYLIGHT
BEGIN:STANDARD
TZOFFSETFROM:+0100
TZOFFSETTO:+0000
TZNAME:GMT
DTSTART:20211031T010000
END:STANDARD
BEGIN:DAYLIGHT
TZOFFSETFROM:+0000
TZOFFSETTO:+0100
TZNAME:BST
DTSTART:20220327T010000
END:DAYLIGHT
BEGIN:STANDARD
TZOFFSETFROM:+0100
TZOFFSETTO:+0000
TZNAME:GMT
DTSTART:20221030T010000
END:STANDARD
END:VTIMEZONE
BEGIN:VEVENT
DTSTART;TZID=Europe/London:20211007T103000
DTEND;TZID=Europe/London:20211007T113000
DTSTAMP:20260424T161946
CREATED:20211005T152418Z
LAST-MODIFIED:20211005T152552Z
UID:36750-1633602600-1633606200@www.bodyshopmag.com
SUMMARY:Together on the Journey to Net Zero (webinar)
DESCRIPTION:The webinar will be hosted on Thursday\, 7 October at 10:30am by Dom Napier\, an industry expert who specialises in measuring and reducing carbon footprint\, PAS 2060 carbon neutral certification and putting in place effective net zero strategy. \nKey questions to be addressed in the webinar include: \nWhat is the legal requirement for your business? \nHow is your business going to get to net zero? \nWhat’s your starting point? \nHow do you calculate your current carbon footprint? \nParticipants will be able to post questions via the webinar chat function for Dom to answer at the end of the Webinar.
URL:https://www.bodyshopmag.com/events-diary/together-on-the-journey-to-net-zero-webinar/
LOCATION:Webinar
END:VEVENT
END:VCALENDAR