BEGIN:VCALENDAR
VERSION:2.0
PRODID:-//Bodyshop Magazine - ECPv6.15.18//NONSGML v1.0//EN
CALSCALE:GREGORIAN
METHOD:PUBLISH
X-WR-CALNAME:Bodyshop Magazine
X-ORIGINAL-URL:https://www.bodyshopmag.com
X-WR-CALDESC:Events for Bodyshop Magazine
REFRESH-INTERVAL;VALUE=DURATION:PT1H
X-Robots-Tag:noindex
X-PUBLISHED-TTL:PT1H
BEGIN:VTIMEZONE
TZID:Europe/London
BEGIN:DAYLIGHT
TZOFFSETFROM:+0000
TZOFFSETTO:+0100
TZNAME:BST
DTSTART:20190331T010000
END:DAYLIGHT
BEGIN:STANDARD
TZOFFSETFROM:+0100
TZOFFSETTO:+0000
TZNAME:GMT
DTSTART:20191027T010000
END:STANDARD
BEGIN:DAYLIGHT
TZOFFSETFROM:+0000
TZOFFSETTO:+0100
TZNAME:BST
DTSTART:20200329T010000
END:DAYLIGHT
BEGIN:STANDARD
TZOFFSETFROM:+0100
TZOFFSETTO:+0000
TZNAME:GMT
DTSTART:20201025T010000
END:STANDARD
BEGIN:DAYLIGHT
TZOFFSETFROM:+0000
TZOFFSETTO:+0100
TZNAME:BST
DTSTART:20210328T010000
END:DAYLIGHT
BEGIN:STANDARD
TZOFFSETFROM:+0100
TZOFFSETTO:+0000
TZNAME:GMT
DTSTART:20211031T010000
END:STANDARD
END:VTIMEZONE
BEGIN:VEVENT
DTSTART;TZID=Europe/London:20201014T090000
DTEND;TZID=Europe/London:20201016T160000
DTSTAMP:20260426T022929
CREATED:20200918T095724Z
LAST-MODIFIED:20200924T102828Z
UID:33243-1602666000-1602864000@www.bodyshopmag.com
SUMMARY:CANCELLED: Electric & Hybrid Vehicle Technology Expo + The Battery Show (Germany)
DESCRIPTION:Due to the pandemic\, these two exhibitions focused on green technology will now be jointly staged in Stuttgart over three days in May 2021. The Electric & Hybrid Vehicle Technology Expo draws manufacturers\, engineers\, and purchasers while the Battery Show brings together industry professionals and 350+ suppliers.
URL:https://www.bodyshopmag.com/events-diary/electric-hybrid-vehicle-technology-expo-the-battery-show-germany/
LOCATION:Messe Stuttgart\, Messepiazza 1\, Stuttgart\, 70629\, Germany
CATEGORIES:General Events
END:VEVENT
BEGIN:VEVENT
DTSTART;TZID=Europe/London:20201015T150000
DTEND;TZID=Europe/London:20201015T160000
DTSTAMP:20260426T022929
CREATED:20201015T081441Z
LAST-MODIFIED:20201015T081441Z
UID:33483-1602774000-1602777600@www.bodyshopmag.com
SUMMARY:Insurance Innovators webinar: Driving value from tech
DESCRIPTION:You will hear from an expert panel of speakers from AXA\, Beazley\, Legal & General and SAS as they delve into the obstacles that prevent insurers driving real value from investments. The panel will offer strategic insights and the tools needed to overcome these challenges and ultimately gain competitive advantage.
URL:https://www.bodyshopmag.com/events-diary/insurance-innovators-webinar-driving-value-from-tech/
LOCATION:Webinar
CATEGORIES:General Events
END:VEVENT
END:VCALENDAR